BEGIN:VCALENDAR
VERSION:2.0
PRODID:-//Chow Town - ECPv6.15.20//NONSGML v1.0//EN
CALSCALE:GREGORIAN
METHOD:PUBLISH
X-WR-CALNAME:Chow Town
X-ORIGINAL-URL:https://chowtownilm.com
X-WR-CALDESC:Events for Chow Town
REFRESH-INTERVAL;VALUE=DURATION:PT1H
X-Robots-Tag:noindex
X-PUBLISHED-TTL:PT1H
BEGIN:VTIMEZONE
TZID:America/New_York
BEGIN:DAYLIGHT
TZOFFSETFROM:-0500
TZOFFSETTO:-0400
TZNAME:EDT
DTSTART:20240310T070000
END:DAYLIGHT
BEGIN:STANDARD
TZOFFSETFROM:-0400
TZOFFSETTO:-0500
TZNAME:EST
DTSTART:20241103T060000
END:STANDARD
BEGIN:DAYLIGHT
TZOFFSETFROM:-0500
TZOFFSETTO:-0400
TZNAME:EDT
DTSTART:20250309T070000
END:DAYLIGHT
BEGIN:STANDARD
TZOFFSETFROM:-0400
TZOFFSETTO:-0500
TZNAME:EST
DTSTART:20251102T060000
END:STANDARD
BEGIN:DAYLIGHT
TZOFFSETFROM:-0500
TZOFFSETTO:-0400
TZNAME:EDT
DTSTART:20260308T070000
END:DAYLIGHT
BEGIN:STANDARD
TZOFFSETFROM:-0400
TZOFFSETTO:-0500
TZNAME:EST
DTSTART:20261101T060000
END:STANDARD
END:VTIMEZONE
BEGIN:VEVENT
DTSTART;TZID=America/New_York:20251026T160000
DTEND;TZID=America/New_York:20251026T190000
DTSTAMP:20260421T164142
CREATED:20251022T001330Z
LAST-MODIFIED:20251022T001330Z
UID:72916-1761494400-1761505200@chowtownilm.com
SUMMARY:Ryan Devinney Music
DESCRIPTION:I’m a songwriter who wants to play my music for anyone and everyone who may want to hear it.
URL:https://chowtownilm.com/event/ryan-devinney-music/
LOCATION:Chow Town\, 1101 N 4th Street\, Wilmington\, NC\, 28401\, United States
CATEGORIES:Live Music
ATTACH;FMTTYPE=image/jpeg:https://chowtownilm.com/wp-content/uploads/2025/10/244216754_4530986500255243_3585641172703915082_n.jpg
END:VEVENT
BEGIN:VEVENT
DTSTART;TZID=America/New_York:20251025T190000
DTEND;TZID=America/New_York:20251025T220000
DTSTAMP:20260421T164142
CREATED:20251022T000242Z
LAST-MODIFIED:20251022T000242Z
UID:72909-1761418800-1761429600@chowtownilm.com
SUMMARY:DJ T-Jax
DESCRIPTION:I specialize in progressive house\, dance\, disco house\, and future bass\, blending energetic beats with uplifting\, atmospheric sounds to keep the crowd engaged.
URL:https://chowtownilm.com/event/dj-t-jax-2/
LOCATION:Chow Town\, 1101 N 4th Street\, Wilmington\, NC\, 28401\, United States
CATEGORIES:Live Music
ATTACH;FMTTYPE=image/png:https://chowtownilm.com/wp-content/uploads/2025/09/DJ-Photo_Edit.png
ORGANIZER;CN="DJ T-Jax":MAILTO:tjax.music@gmail.com
END:VEVENT
BEGIN:VEVENT
DTSTART;TZID=America/New_York:20251025T170000
DTEND;TZID=America/New_York:20251025T220000
DTSTAMP:20260421T164142
CREATED:20251021T235642Z
LAST-MODIFIED:20251021T235642Z
UID:72908-1761411600-1761429600@chowtownilm.com
SUMMARY:Smash N' Dash
DESCRIPTION:SMASH BURGERS AND BACON WRAPPED HOT DOGS IS WHAT WE DO! #SEXYFOOD
URL:https://chowtownilm.com/event/smash-n-dash-2/
LOCATION:Chow Town\, 1101 N 4th Street\, Wilmington\, NC\, 28401\, United States
CATEGORIES:Food Truck
ATTACH;FMTTYPE=image/jpeg:https://chowtownilm.com/wp-content/uploads/2025/10/481764166_626030403509121_2150003627660577519_n.jpg
ORGANIZER;CN="Smash N' Dash":MAILTO:danny@smashndash.org
END:VEVENT
BEGIN:VEVENT
DTSTART;TZID=America/New_York:20251025T170000
DTEND;TZID=America/New_York:20251025T220000
DTSTAMP:20260421T164142
CREATED:20251021T235504Z
LAST-MODIFIED:20251021T235504Z
UID:72907-1761411600-1761429600@chowtownilm.com
SUMMARY:Big Ralph's Rolling Bistro
DESCRIPTION:We are family operated and have been in the food business for 20 years. \nFood/Beverage Served:  Hot & Cold deli sandwiches\, salads\, smash burgers\, quesadillas\, hot dogs\, sausages\, fries\, fresh lemonade
URL:https://chowtownilm.com/event/big-ralphs-rolling-bistro-14/
LOCATION:Chow Town\, 1101 N 4th Street\, Wilmington\, NC\, 28401\, United States
CATEGORIES:Food Truck
ATTACH;FMTTYPE=image/jpeg:https://chowtownilm.com/wp-content/uploads/2025/08/IMG_1434-scaled.jpeg
ORGANIZER;CN="Big Ralph%E2%80%99s Rolling Bistro":MAILTO:ralph@bigralphs.com
END:VEVENT
BEGIN:VEVENT
DTSTART;VALUE=DATE:20251025
DTEND;VALUE=DATE:20251026
DTSTAMP:20260421T164142
CREATED:20251021T235333Z
LAST-MODIFIED:20251021T235333Z
UID:72906-1761350400-1761436799@chowtownilm.com
SUMMARY:California Taco NC
DESCRIPTION:Asada Fries\, Burritos\, Tacos\, Quesadillas\, and Bowls
URL:https://chowtownilm.com/event/california-taco-nc-10/
LOCATION:Chow Town\, 1101 N 4th Street\, Wilmington\, NC\, 28401\, United States
CATEGORIES:Food Truck
ATTACH;FMTTYPE=image/jpeg:https://chowtownilm.com/wp-content/uploads/2025/08/454566057_1075302247321293_845510228504304887_n.jpg
END:VEVENT
BEGIN:VEVENT
DTSTART;TZID=America/New_York:20251024T180000
DTEND;TZID=America/New_York:20251024T210000
DTSTAMP:20260421T164142
CREATED:20251022T000648Z
LAST-MODIFIED:20251022T000648Z
UID:72913-1761328800-1761339600@chowtownilm.com
SUMMARY:Sai Collins Music
DESCRIPTION:An acoustic soul artist known for his smooth vocals\, uplifting energy\, and all the good vibes.
URL:https://chowtownilm.com/event/sai-collins-music/
LOCATION:Chow Town\, 1101 N 4th Street\, Wilmington\, NC\, 28401\, United States
CATEGORIES:Live Music
ATTACH;FMTTYPE=image/jpeg:https://chowtownilm.com/wp-content/uploads/2025/10/506753075_3119425861542559_528009426836202787_n.jpg
END:VEVENT
BEGIN:VEVENT
DTSTART;TZID=America/New_York:20251024T170000
DTEND;TZID=America/New_York:20251024T220000
DTSTAMP:20260421T164142
CREATED:20251021T235059Z
LAST-MODIFIED:20251021T235059Z
UID:72905-1761325200-1761343200@chowtownilm.com
SUMMARY:Club Sips
DESCRIPTION:From dirty sodas and lemonades to loaded seltzers and cozy hot beverages\, each drink is a reflection of what matters most\, connection\, celebration\, and making memories.
URL:https://chowtownilm.com/event/club-sips-3/
LOCATION:Chow Town\, 1101 N 4th Street\, Wilmington\, NC\, 28401\, United States
CATEGORIES:Food Truck
ATTACH;FMTTYPE=image/jpeg:https://chowtownilm.com/wp-content/uploads/2025/10/541769095_122094101577013317_7152229661210457336_n.jpg
ORGANIZER;CN="Club Sips":MAILTO:clubsipsnc@gmail.com
END:VEVENT
BEGIN:VEVENT
DTSTART;TZID=America/New_York:20251023T170000
DTEND;TZID=America/New_York:20251023T210000
DTSTAMP:20260421T164142
CREATED:20251021T235013Z
LAST-MODIFIED:20251021T235013Z
UID:72904-1761238800-1761253200@chowtownilm.com
SUMMARY:Club Sips
DESCRIPTION:From dirty sodas and lemonades to loaded seltzers and cozy hot beverages\, each drink is a reflection of what matters most\, connection\, celebration\, and making memories.
URL:https://chowtownilm.com/event/club-sips-2/
LOCATION:Chow Town\, 1101 N 4th Street\, Wilmington\, NC\, 28401\, United States
CATEGORIES:Food Truck
ATTACH;FMTTYPE=image/jpeg:https://chowtownilm.com/wp-content/uploads/2025/10/541769095_122094101577013317_7152229661210457336_n.jpg
ORGANIZER;CN="Club Sips":MAILTO:clubsipsnc@gmail.com
END:VEVENT
BEGIN:VEVENT
DTSTART;VALUE=DATE:20251023
DTEND;VALUE=DATE:20251027
DTSTAMP:20260421T164142
CREATED:20251021T234520Z
LAST-MODIFIED:20251021T234520Z
UID:72900-1761177600-1761523199@chowtownilm.com
SUMMARY:Jamrock Jamaican
DESCRIPTION:Welcome to “Jamrock Jamaican Food Truck\,” a vibrant culinary gem that brings the rich flavors and aromas of Jamaica straight to your plate\, making it a must-visit for anyone craving authentic Caribbean cuisine
URL:https://chowtownilm.com/event/jamrock-jamaican-16/
LOCATION:Chow Town\, 1101 N 4th Street\, Wilmington\, NC\, 28401\, United States
CATEGORIES:Food Truck
ATTACH;FMTTYPE=image/jpeg:https://chowtownilm.com/wp-content/uploads/2025/08/391712070_3635202806749896_5581754526121380799_n.jpg
END:VEVENT
BEGIN:VEVENT
DTSTART;TZID=America/New_York:20251022T120000
DTEND;TZID=America/New_York:20251022T160000
DTSTAMP:20260421T164142
CREATED:20251021T234440Z
LAST-MODIFIED:20251021T234440Z
UID:72899-1761134400-1761148800@chowtownilm.com
SUMMARY:Jamrock Jamaican
DESCRIPTION:Welcome to “Jamrock Jamaican Food Truck\,” a vibrant culinary gem that brings the rich flavors and aromas of Jamaica straight to your plate\, making it a must-visit for anyone craving authentic Caribbean cuisine
URL:https://chowtownilm.com/event/jamrock-jamaican-15/
LOCATION:Chow Town\, 1101 N 4th Street\, Wilmington\, NC\, 28401\, United States
CATEGORIES:Food Truck
ATTACH;FMTTYPE=image/jpeg:https://chowtownilm.com/wp-content/uploads/2025/08/391712070_3635202806749896_5581754526121380799_n.jpg
END:VEVENT
BEGIN:VEVENT
DTSTART;VALUE=DATE:20251022
DTEND;VALUE=DATE:20251027
DTSTAMP:20260421T164142
CREATED:20251021T234829Z
LAST-MODIFIED:20251021T234829Z
UID:72903-1761091200-1761523199@chowtownilm.com
SUMMARY:Nica ThreePeas
DESCRIPTION:
URL:https://chowtownilm.com/event/nica-threepeas-5/
LOCATION:Chow Town\, 1101 N 4th Street\, Wilmington\, NC\, 28401\, United States
CATEGORIES:Food Truck
ATTACH;FMTTYPE=image/jpeg:https://chowtownilm.com/wp-content/uploads/2025/09/539089315_1265442295262488_6022910683770148177_n.jpg
END:VEVENT
BEGIN:VEVENT
DTSTART;TZID=America/New_York:20251021T120000
DTEND;TZID=America/New_York:20251021T160000
DTSTAMP:20260421T164142
CREATED:20251021T234351Z
LAST-MODIFIED:20251021T234351Z
UID:72898-1761048000-1761062400@chowtownilm.com
SUMMARY:Jamrock Jamaican
DESCRIPTION:Welcome to “Jamrock Jamaican Food Truck\,” a vibrant culinary gem that brings the rich flavors and aromas of Jamaica straight to your plate\, making it a must-visit for anyone craving authentic Caribbean cuisine
URL:https://chowtownilm.com/event/jamrock-jamaican-14/
LOCATION:Chow Town\, 1101 N 4th Street\, Wilmington\, NC\, 28401\, United States
CATEGORIES:Food Truck
ATTACH;FMTTYPE=image/jpeg:https://chowtownilm.com/wp-content/uploads/2025/08/391712070_3635202806749896_5581754526121380799_n.jpg
END:VEVENT
BEGIN:VEVENT
DTSTART;VALUE=DATE:20251021
DTEND;VALUE=DATE:20251027
DTSTAMP:20260421T164142
CREATED:20251021T234723Z
LAST-MODIFIED:20251021T234723Z
UID:72902-1761004800-1761523199@chowtownilm.com
SUMMARY:The Peach Cobbler Factory
DESCRIPTION:The Peach Cobbler Factory is home to the world’s most unique offering of desserts under one roof! Visit us to enjoy warm\, delicious cobblers with ice cream\, banana puddings\, savory\, sweet cinnamon rolls\, Pudd-N Shakes\, Bigger & Better Cookies\, Bigger & Better Brownies\, Churro Stix w/Dipping Sauces\, Belgian Waffles\, and more! Wash it down with our Made-in-House Sweet Peachy Tea or Cold Rush Cold Brew Coffee.
URL:https://chowtownilm.com/event/the-peach-cobbler-factory-11/
LOCATION:Chow Town\, 1101 N 4th Street\, Wilmington\, NC\, 28401\, United States
CATEGORIES:Food Truck
ORGANIZER;CN="The Peach Cobbler Factory":MAILTO:Success102@aol.com
END:VEVENT
BEGIN:VEVENT
DTSTART;VALUE=DATE:20251021
DTEND;VALUE=DATE:20251024
DTSTAMP:20260421T164142
CREATED:20251021T234637Z
LAST-MODIFIED:20251021T234637Z
UID:72901-1761004800-1761263999@chowtownilm.com
SUMMARY:The Cheez Boss
DESCRIPTION:Gourmet Grilled Cheese Food Truck
URL:https://chowtownilm.com/event/the-cheez-boss/
LOCATION:Chow Town\, 1101 N 4th Street\, Wilmington\, NC\, 28401\, United States
CATEGORIES:Food Truck
ATTACH;FMTTYPE=image/jpeg:https://chowtownilm.com/wp-content/uploads/2025/10/506381031_688923563899561_4034026852846762402_n.jpg
ORGANIZER;CN="Cheez Boss":MAILTO:info@cheezboss.com
END:VEVENT
BEGIN:VEVENT
DTSTART;TZID=America/New_York:20251019T170000
DTEND;TZID=America/New_York:20251019T220000
DTSTAMP:20260421T164142
CREATED:20251015T023646Z
LAST-MODIFIED:20251015T023646Z
UID:72856-1760893200-1760911200@chowtownilm.com
SUMMARY:Jamrock Jamaican
DESCRIPTION:Welcome to “Jamrock Jamaican Food Truck\,” a vibrant culinary gem that brings the rich flavors and aromas of Jamaica straight to your plate\, making it a must-visit for anyone craving authentic Caribbean cuisine
URL:https://chowtownilm.com/event/jamrock-jamaican-13/
LOCATION:Chow Town\, 1101 N 4th Street\, Wilmington\, NC\, 28401\, United States
CATEGORIES:Food Truck
ATTACH;FMTTYPE=image/jpeg:https://chowtownilm.com/wp-content/uploads/2025/08/391712070_3635202806749896_5581754526121380799_n.jpg
END:VEVENT
BEGIN:VEVENT
DTSTART;VALUE=DATE:20251019
DTEND;VALUE=DATE:20251020
DTSTAMP:20260421T164142
CREATED:20251015T030303Z
LAST-MODIFIED:20251015T030303Z
UID:72878-1760832000-1760918399@chowtownilm.com
SUMMARY:Cheez Boss
DESCRIPTION:Gourmet Grilled Cheese Food Truck
URL:https://chowtownilm.com/event/cheez-boss/
LOCATION:Chow Town\, 1101 N 4th Street\, Wilmington\, NC\, 28401\, United States
CATEGORIES:Food Truck
ATTACH;FMTTYPE=image/jpeg:https://chowtownilm.com/wp-content/uploads/2025/10/506381031_688923563899561_4034026852846762402_n.jpg
ORGANIZER;CN="Cheez Boss":MAILTO:info@cheezboss.com
END:VEVENT
BEGIN:VEVENT
DTSTART;TZID=America/New_York:20251018T170000
DTEND;TZID=America/New_York:20251018T220000
DTSTAMP:20260421T164142
CREATED:20251015T025510Z
LAST-MODIFIED:20251015T025510Z
UID:72871-1760806800-1760824800@chowtownilm.com
SUMMARY:KT's BBQ
DESCRIPTION:After years of competition BBQ we have moved on to catering and the food truck world\, come and get some award winning BBQ 🥇 🐷
URL:https://chowtownilm.com/event/kts-bbq-3/
LOCATION:Chow Town\, 1101 N 4th Street\, Wilmington\, NC\, 28401\, United States
CATEGORIES:Food Truck
ATTACH;FMTTYPE=image/jpeg:https://chowtownilm.com/wp-content/uploads/2025/08/514360562_122177447060330480_6865665514346068880_n.jpg
ORGANIZER;CN="KT's BBQ":MAILTO:Ktsbbqilm@gmail.com
END:VEVENT
BEGIN:VEVENT
DTSTART;VALUE=DATE:20251018
DTEND;VALUE=DATE:20251020
DTSTAMP:20260421T164142
CREATED:20251015T023502Z
LAST-MODIFIED:20251015T023502Z
UID:72855-1760745600-1760918399@chowtownilm.com
SUMMARY:The Peach Cobbler Factory
DESCRIPTION:The Peach Cobbler Factory is home to the world’s most unique offering of desserts under one roof! Visit us to enjoy warm\, delicious cobblers with ice cream\, banana puddings\, savory\, sweet cinnamon rolls\, Pudd-N Shakes\, Bigger & Better Cookies\, Bigger & Better Brownies\, Churro Stix w/Dipping Sauces\, Belgian Waffles\, and more! Wash it down with our Made-in-House Sweet Peachy Tea or Cold Rush Cold Brew Coffee.
URL:https://chowtownilm.com/event/the-peach-cobbler-factory-10/
LOCATION:Chow Town\, 1101 N 4th Street\, Wilmington\, NC\, 28401\, United States
CATEGORIES:Food Truck
ATTACH;FMTTYPE=image/jpeg:https://chowtownilm.com/wp-content/uploads/2025/08/IMG_1790-scaled.jpeg
ORGANIZER;CN="The Peach Cobbler Factory":MAILTO:Success102@aol.com
END:VEVENT
BEGIN:VEVENT
DTSTART;VALUE=DATE:20251018
DTEND;VALUE=DATE:20251019
DTSTAMP:20260421T164142
CREATED:20251015T030005Z
LAST-MODIFIED:20251015T030005Z
UID:72875-1760745600-1760831999@chowtownilm.com
SUMMARY:Slice of Ice
DESCRIPTION:Nicest Slice In TownServing the Wilmington and surrounding Areas ” Amazing Shaved Ice”
URL:https://chowtownilm.com/event/slice-of-ice/
LOCATION:Chow Town\, 1101 N 4th Street\, Wilmington\, NC\, 28401\, United States
CATEGORIES:Food Truck
ATTACH;FMTTYPE=image/jpeg:https://chowtownilm.com/wp-content/uploads/2025/10/506445213_10232444911798486_996475865004808578_n.jpg
ORGANIZER;CN="Slice of Ice":MAILTO:Sliceofice@yahoo.com
END:VEVENT
BEGIN:VEVENT
DTSTART;TZID=America/New_York:20251017T170000
DTEND;TZID=America/New_York:20251017T220000
DTSTAMP:20260421T164142
CREATED:20251015T025352Z
LAST-MODIFIED:20251015T025352Z
UID:72870-1760720400-1760738400@chowtownilm.com
SUMMARY:Smash N' Dash
DESCRIPTION:SMASH BURGERS AND BACON WRAPPED HOT DOGS IS WHAT WE DO! #SEXYFOOD
URL:https://chowtownilm.com/event/smash-n-dash/
LOCATION:Chow Town\, 1101 N 4th Street\, Wilmington\, NC\, 28401\, United States
CATEGORIES:Food Truck
ATTACH;FMTTYPE=image/jpeg:https://chowtownilm.com/wp-content/uploads/2025/10/481764166_626030403509121_2150003627660577519_n.jpg
ORGANIZER;CN="Smash N' Dash":MAILTO:danny@smashndash.org
END:VEVENT
BEGIN:VEVENT
DTSTART;TZID=America/New_York:20251017T170000
DTEND;TZID=America/New_York:20251017T220000
DTSTAMP:20260421T164142
CREATED:20251015T024947Z
LAST-MODIFIED:20251015T024947Z
UID:72867-1760720400-1760738400@chowtownilm.com
SUMMARY:Donut Bus
DESCRIPTION:Hot N’ Fresh Mini Donuts made-to-order! Choose from over 15 different toppings.We do it all and roll to you!
URL:https://chowtownilm.com/event/donut-bus/
LOCATION:Chow Town\, 1101 N 4th Street\, Wilmington\, NC\, 28401\, United States
CATEGORIES:Food Truck
ATTACH;FMTTYPE=image/jpeg:https://chowtownilm.com/wp-content/uploads/2025/10/490236718_1272643894702442_8924473903293729514_n.jpg
ORGANIZER;CN="Donut Bus":MAILTO:minidonuts1972@gmail.com
END:VEVENT
BEGIN:VEVENT
DTSTART;TZID=America/New_York:20251017T160000
DTEND;TZID=America/New_York:20251017T220000
DTSTAMP:20260421T164142
CREATED:20251015T024550Z
LAST-MODIFIED:20251015T024550Z
UID:72863-1760716800-1760738400@chowtownilm.com
SUMMARY:Big Ralph's Rolling Bistro
DESCRIPTION:We are family operated and have been in the food business for 20 years. \nFood/Beverage Served:  Hot & Cold deli sandwiches\, salads\, smash burgers\, quesadillas\, hot dogs\, sausages\, fries\, fresh lemonade
URL:https://chowtownilm.com/event/big-ralphs-rolling-bistro-13/
LOCATION:Chow Town\, 1101 N 4th Street\, Wilmington\, NC\, 28401\, United States
CATEGORIES:Food Truck
ATTACH;FMTTYPE=image/jpeg:https://chowtownilm.com/wp-content/uploads/2025/08/IMG_1434-scaled.jpeg
ORGANIZER;CN="Big Ralph%E2%80%99s Rolling Bistro":MAILTO:ralph@bigralphs.com
END:VEVENT
BEGIN:VEVENT
DTSTART;TZID=America/New_York:20251016T170000
DTEND;TZID=America/New_York:20251016T210000
DTSTAMP:20260421T164142
CREATED:20251015T024417Z
LAST-MODIFIED:20251015T024417Z
UID:72862-1760634000-1760648400@chowtownilm.com
SUMMARY:Club Sips
DESCRIPTION:From dirty sodas and lemonades to loaded seltzers and cozy hot beverages\, each drink is a reflection of what matters most\, connection\, celebration\, and making memories.
URL:https://chowtownilm.com/event/club-sips/
LOCATION:Chow Town\, 1101 N 4th Street\, Wilmington\, NC\, 28401\, United States
CATEGORIES:Food Truck
ATTACH;FMTTYPE=image/jpeg:https://chowtownilm.com/wp-content/uploads/2025/10/541769095_122094101577013317_7152229661210457336_n.jpg
ORGANIZER;CN="Club Sips":MAILTO:clubsipsnc@gmail.com
END:VEVENT
BEGIN:VEVENT
DTSTART;TZID=America/New_York:20251016T160000
DTEND;TZID=America/New_York:20251016T210000
DTSTAMP:20260421T164142
CREATED:20251015T023817Z
LAST-MODIFIED:20251015T023817Z
UID:72857-1760630400-1760648400@chowtownilm.com
SUMMARY:Fly'n Phil'E
DESCRIPTION:Keep up with Fly’N Phil’e and get food cooked with passion and love
URL:https://chowtownilm.com/event/flyn-phile-3/
LOCATION:Chow Town\, 1101 N 4th Street\, Wilmington\, NC\, 28401\, United States
CATEGORIES:Food Truck
ATTACH;FMTTYPE=image/jpeg:https://chowtownilm.com/wp-content/uploads/2025/09/490700169_122113252526811923_5826880915914832195_n.jpg
ORGANIZER;CN="Fly'n Phil'e":MAILTO:pop.pops.eats@gmail.com
END:VEVENT
BEGIN:VEVENT
DTSTART;VALUE=DATE:20251016
DTEND;VALUE=DATE:20251020
DTSTAMP:20260421T164142
CREATED:20251015T023939Z
LAST-MODIFIED:20251015T023939Z
UID:72858-1760572800-1760918399@chowtownilm.com
SUMMARY:Nica ThreePeas
DESCRIPTION:
URL:https://chowtownilm.com/event/nica-threepeas-4/
LOCATION:Chow Town\, 1101 N 4th Street\, Wilmington\, NC\, 28401\, United States
CATEGORIES:Food Truck
ATTACH;FMTTYPE=image/jpeg:https://chowtownilm.com/wp-content/uploads/2025/09/539089315_1265442295262488_6022910683770148177_n.jpg
END:VEVENT
BEGIN:VEVENT
DTSTART;VALUE=DATE:20251014
DTEND;VALUE=DATE:20251019
DTSTAMP:20260421T164142
CREATED:20251015T023322Z
LAST-MODIFIED:20251015T023322Z
UID:72853-1760400000-1760831999@chowtownilm.com
SUMMARY:Jamrock Jamaican
DESCRIPTION:Welcome to “Jamrock Jamaican Food Truck\,” a vibrant culinary gem that brings the rich flavors and aromas of Jamaica straight to your plate\, making it a must-visit for anyone craving authentic Caribbean cuisine
URL:https://chowtownilm.com/event/jamrock-jamaican-12/
LOCATION:Chow Town\, 1101 N 4th Street\, Wilmington\, NC\, 28401\, United States
CATEGORIES:Food Truck
ATTACH;FMTTYPE=image/jpeg:https://chowtownilm.com/wp-content/uploads/2025/08/391712070_3635202806749896_5581754526121380799_n.jpg
END:VEVENT
BEGIN:VEVENT
DTSTART;VALUE=DATE:20251014
DTEND;VALUE=DATE:20251017
DTSTAMP:20260421T164142
CREATED:20251015T023424Z
LAST-MODIFIED:20251015T023424Z
UID:72854-1760400000-1760659199@chowtownilm.com
SUMMARY:The Peach Cobbler Factory
DESCRIPTION:The Peach Cobbler Factory is home to the world’s most unique offering of desserts under one roof! Visit us to enjoy warm\, delicious cobblers with ice cream\, banana puddings\, savory\, sweet cinnamon rolls\, Pudd-N Shakes\, Bigger & Better Cookies\, Bigger & Better Brownies\, Churro Stix w/Dipping Sauces\, Belgian Waffles\, and more! Wash it down with our Made-in-House Sweet Peachy Tea or Cold Rush Cold Brew Coffee.
URL:https://chowtownilm.com/event/the-peach-cobbler-factory-9/
LOCATION:Chow Town\, 1101 N 4th Street\, Wilmington\, NC\, 28401\, United States
CATEGORIES:Food Truck
ATTACH;FMTTYPE=image/jpeg:https://chowtownilm.com/wp-content/uploads/2025/08/IMG_1790-scaled.jpeg
ORGANIZER;CN="The Peach Cobbler Factory":MAILTO:Success102@aol.com
END:VEVENT
BEGIN:VEVENT
DTSTART;TZID=America/New_York:20251012T160000
DTEND;TZID=America/New_York:20251012T210000
DTSTAMP:20260421T164142
CREATED:20251008T024135Z
LAST-MODIFIED:20251008T024135Z
UID:72846-1760284800-1760302800@chowtownilm.com
SUMMARY:Jamrock Jamaican
DESCRIPTION:Welcome to “Jamrock Jamaican Food Truck\,” a vibrant culinary gem that brings the rich flavors and aromas of Jamaica straight to your plate\, making it a must-visit for anyone craving authentic Caribbean cuisine
URL:https://chowtownilm.com/event/jamrock-jamaican-11/
LOCATION:Chow Town\, 1101 N 4th Street\, Wilmington\, NC\, 28401\, United States
CATEGORIES:Food Truck
ATTACH;FMTTYPE=image/jpeg:https://chowtownilm.com/wp-content/uploads/2025/08/391712070_3635202806749896_5581754526121380799_n.jpg
END:VEVENT
BEGIN:VEVENT
DTSTART;TZID=America/New_York:20251011T170000
DTEND;TZID=America/New_York:20251011T220000
DTSTAMP:20260421T164142
CREATED:20251008T023955Z
LAST-MODIFIED:20251008T023955Z
UID:72844-1760202000-1760220000@chowtownilm.com
SUMMARY:California Taco NC
DESCRIPTION:Asada Fries\, Burritos\, Tacos\, Quesadillas\, and Bowls
URL:https://chowtownilm.com/event/california-taco-nc-9/
LOCATION:Chow Town\, 1101 N 4th Street\, Wilmington\, NC\, 28401\, United States
CATEGORIES:Food Truck
ATTACH;FMTTYPE=image/jpeg:https://chowtownilm.com/wp-content/uploads/2025/08/454566057_1075302247321293_845510228504304887_n.jpg
END:VEVENT
BEGIN:VEVENT
DTSTART;TZID=America/New_York:20251011T160000
DTEND;TZID=America/New_York:20251011T220000
DTSTAMP:20260421T164142
CREATED:20251008T024047Z
LAST-MODIFIED:20251008T024047Z
UID:72845-1760198400-1760220000@chowtownilm.com
SUMMARY:Jamrock Jamaican
DESCRIPTION:Welcome to “Jamrock Jamaican Food Truck\,” a vibrant culinary gem that brings the rich flavors and aromas of Jamaica straight to your plate\, making it a must-visit for anyone craving authentic Caribbean cuisine
URL:https://chowtownilm.com/event/jamrock-jamaican-10/
LOCATION:Chow Town\, 1101 N 4th Street\, Wilmington\, NC\, 28401\, United States
CATEGORIES:Food Truck
ATTACH;FMTTYPE=image/jpeg:https://chowtownilm.com/wp-content/uploads/2025/08/391712070_3635202806749896_5581754526121380799_n.jpg
END:VEVENT
END:VCALENDAR